BEGIN:VCALENDAR
VERSION:2.0
PRODID:-//Sholem Community - ECPv6.15.20//NONSGML v1.0//EN
CALSCALE:GREGORIAN
METHOD:PUBLISH
X-WR-CALNAME:Sholem Community
X-ORIGINAL-URL:https://www.sholem.org
X-WR-CALDESC:Events for Sholem Community
REFRESH-INTERVAL;VALUE=DURATION:PT1H
X-Robots-Tag:noindex
X-PUBLISHED-TTL:PT1H
BEGIN:VTIMEZONE
TZID:America/Los_Angeles
BEGIN:DAYLIGHT
TZOFFSETFROM:-0800
TZOFFSETTO:-0700
TZNAME:PDT
DTSTART:20210314T100000
END:DAYLIGHT
BEGIN:STANDARD
TZOFFSETFROM:-0700
TZOFFSETTO:-0800
TZNAME:PST
DTSTART:20211107T090000
END:STANDARD
BEGIN:DAYLIGHT
TZOFFSETFROM:-0800
TZOFFSETTO:-0700
TZNAME:PDT
DTSTART:20220313T100000
END:DAYLIGHT
BEGIN:STANDARD
TZOFFSETFROM:-0700
TZOFFSETTO:-0800
TZNAME:PST
DTSTART:20221106T090000
END:STANDARD
BEGIN:DAYLIGHT
TZOFFSETFROM:-0800
TZOFFSETTO:-0700
TZNAME:PDT
DTSTART:20230312T100000
END:DAYLIGHT
BEGIN:STANDARD
TZOFFSETFROM:-0700
TZOFFSETTO:-0800
TZNAME:PST
DTSTART:20231105T090000
END:STANDARD
END:VTIMEZONE
BEGIN:VEVENT
DTSTART;TZID=America/Los_Angeles:20220327T100000
DTEND;TZID=America/Los_Angeles:20220327T123000
DTSTAMP:20260419T164111
CREATED:20220328T221730Z
LAST-MODIFIED:20220328T222013Z
UID:26487-1648375200-1648384200@www.sholem.org
SUMMARY:SHOLEM RETURNS TO SHORT AVENUE ELEMENTARY SUNDAY
DESCRIPTION:After two years of hybrid Sunday school\, Sholem is at last returning to Short Avenue Elementary School! \nPlease note revised class schedule: \nSunday\, March 27 \n10:00-10:20am\nBagels\, shmooze\, assembly\n10:20am-12:15pm\nAlef\, Beys\, Giml\, Daled\, Hey classes\n11:30am-1:30pm\nVov class \nIf you have any questions about our secular Sunday school or are interested in having your child/ren try a class\, please email our principal Ross Helford at ross@sholem.org.
URL:https://www.sholem.org/event/sholem-returns-to-short-avenue-elementary-sunday-march-27/
ATTACH;FMTTYPE=image/jpeg:https://www.sholem.org/wp-content/uploads/06a7df31-600e-00b8-5784-b8a05f78e7a7.jpg
END:VEVENT
END:VCALENDAR