BEGIN:VCALENDAR
VERSION:2.0
PRODID:-//Sholem Community - ECPv6.15.20//NONSGML v1.0//EN
CALSCALE:GREGORIAN
METHOD:PUBLISH
X-ORIGINAL-URL:https://www.sholem.org
X-WR-CALDESC:Events for Sholem Community
REFRESH-INTERVAL;VALUE=DURATION:PT1H
X-Robots-Tag:noindex
X-PUBLISHED-TTL:PT1H
BEGIN:VTIMEZONE
TZID:America/Los_Angeles
BEGIN:DAYLIGHT
TZOFFSETFROM:-0800
TZOFFSETTO:-0700
TZNAME:PDT
DTSTART:20210314T100000
END:DAYLIGHT
BEGIN:STANDARD
TZOFFSETFROM:-0700
TZOFFSETTO:-0800
TZNAME:PST
DTSTART:20211107T090000
END:STANDARD
BEGIN:DAYLIGHT
TZOFFSETFROM:-0800
TZOFFSETTO:-0700
TZNAME:PDT
DTSTART:20220313T100000
END:DAYLIGHT
BEGIN:STANDARD
TZOFFSETFROM:-0700
TZOFFSETTO:-0800
TZNAME:PST
DTSTART:20221106T090000
END:STANDARD
BEGIN:DAYLIGHT
TZOFFSETFROM:-0800
TZOFFSETTO:-0700
TZNAME:PDT
DTSTART:20230312T100000
END:DAYLIGHT
BEGIN:STANDARD
TZOFFSETFROM:-0700
TZOFFSETTO:-0800
TZNAME:PST
DTSTART:20231105T090000
END:STANDARD
END:VTIMEZONE
BEGIN:VEVENT
DTSTART;TZID=America/Los_Angeles:20220403T103000
DTEND;TZID=America/Los_Angeles:20220403T113000
DTSTAMP:20260419T163306
CREATED:20220328T221445Z
LAST-MODIFIED:20220328T221518Z
UID:26482-1648981800-1648985400@www.sholem.org
SUMMARY:IMPORTANT IN-PERSON MEETING FOR SCHOOL PARENTS
DESCRIPTION:SUNDAY\, APRIL 3 @ 10:30AM\nA message for our Sunday School parents… \nFollowing a long and challenging absence\, we are pleased to be returning to meeting in person and look forward to reconnecting. \nDuring the pandemic\, Sholem was able to make accommodations for the Sunday School\, adult activities\, and holiday celebrations to continue. These changes caused a reevaluation of the future of Sholem. This is what we will be in a dialogue at this meeting. Sholem is facing some challenges and our school parents need to be an integral part of the decision making. \nPlease plan to attend this meeting.\nWe hope as many of us as possible will be there to share a wide range of thoughts\, ideas\, and visions for Sholem’s future.\n(Fellow community members are also welcome!) \nSunday School Parents\nSunday\, April 3rd\n10:00am Coffee\, Bagels & Shmooze\n10:30-11:30am Meeting\nShort Avenue Elementary School \nQuestions: regan@sholem.org
URL:https://www.sholem.org/event/important-in-person-meeting-for-school-parents/
ATTACH;FMTTYPE=image/jpeg:https://www.sholem.org/wp-content/uploads/489a3f45-6d1c-116e-fd76-1d1e70e50d52.jpeg
END:VEVENT
END:VCALENDAR