BEGIN:VCALENDAR
VERSION:2.0
PRODID:-//Sholem Community - ECPv6.15.20//NONSGML v1.0//EN
CALSCALE:GREGORIAN
METHOD:PUBLISH
X-ORIGINAL-URL:https://www.sholem.org
X-WR-CALDESC:Events for Sholem Community
REFRESH-INTERVAL;VALUE=DURATION:PT1H
X-Robots-Tag:noindex
X-PUBLISHED-TTL:PT1H
BEGIN:VTIMEZONE
TZID:America/Los_Angeles
BEGIN:DAYLIGHT
TZOFFSETFROM:-0800
TZOFFSETTO:-0700
TZNAME:PDT
DTSTART:20230312T100000
END:DAYLIGHT
BEGIN:STANDARD
TZOFFSETFROM:-0700
TZOFFSETTO:-0800
TZNAME:PST
DTSTART:20231105T090000
END:STANDARD
BEGIN:DAYLIGHT
TZOFFSETFROM:-0800
TZOFFSETTO:-0700
TZNAME:PDT
DTSTART:20240310T100000
END:DAYLIGHT
BEGIN:STANDARD
TZOFFSETFROM:-0700
TZOFFSETTO:-0800
TZNAME:PST
DTSTART:20241103T090000
END:STANDARD
BEGIN:DAYLIGHT
TZOFFSETFROM:-0800
TZOFFSETTO:-0700
TZNAME:PDT
DTSTART:20250309T100000
END:DAYLIGHT
BEGIN:STANDARD
TZOFFSETFROM:-0700
TZOFFSETTO:-0800
TZNAME:PST
DTSTART:20251102T090000
END:STANDARD
END:VTIMEZONE
BEGIN:VEVENT
DTSTART;VALUE=DATE:20241020
DTEND;VALUE=DATE:20241021
DTSTAMP:20260419T074200
CREATED:20240824T223243Z
LAST-MODIFIED:20240901T045911Z
UID:28825-1729382400-1729468799@www.sholem.org
SUMMARY:Sunday School - Sukkot/Sukis Assembly
DESCRIPTION:The Sholem Community’s holiday observances draw from Jewish history\, folk traditions\, contemporary readings\, and social justice themes. Our secular humanistic adaptations of Jewish holidays are creative and imbued with a sense of relevance to the concerns of our modern times.\nThis last holiday of the New Year festival cycle once celebrated the harvest. Today at Sholem\, we focus on food justice and sustainability.
URL:https://www.sholem.org/event/sukis-assembly/
ATTACH;FMTTYPE=image/heic:https://www.sholem.org/wp-content/uploads/IMG_2804.heic
END:VEVENT
END:VCALENDAR