BEGIN:VCALENDAR
VERSION:2.0
PRODID:-//Sholem Community - ECPv6.15.20//NONSGML v1.0//EN
CALSCALE:GREGORIAN
METHOD:PUBLISH
X-WR-CALNAME:Sholem Community
X-ORIGINAL-URL:https://www.sholem.org
X-WR-CALDESC:Events for Sholem Community
REFRESH-INTERVAL;VALUE=DURATION:PT1H
X-Robots-Tag:noindex
X-PUBLISHED-TTL:PT1H
BEGIN:VTIMEZONE
TZID:America/Los_Angeles
BEGIN:DAYLIGHT
TZOFFSETFROM:-0800
TZOFFSETTO:-0700
TZNAME:PDT
DTSTART:20190310T100000
END:DAYLIGHT
BEGIN:STANDARD
TZOFFSETFROM:-0700
TZOFFSETTO:-0800
TZNAME:PST
DTSTART:20191103T090000
END:STANDARD
BEGIN:DAYLIGHT
TZOFFSETFROM:-0800
TZOFFSETTO:-0700
TZNAME:PDT
DTSTART:20200308T100000
END:DAYLIGHT
BEGIN:STANDARD
TZOFFSETFROM:-0700
TZOFFSETTO:-0800
TZNAME:PST
DTSTART:20201101T090000
END:STANDARD
BEGIN:DAYLIGHT
TZOFFSETFROM:-0800
TZOFFSETTO:-0700
TZNAME:PDT
DTSTART:20210314T100000
END:DAYLIGHT
BEGIN:STANDARD
TZOFFSETFROM:-0700
TZOFFSETTO:-0800
TZNAME:PST
DTSTART:20211107T090000
END:STANDARD
END:VTIMEZONE
BEGIN:VEVENT
DTSTART;TZID=America/Los_Angeles:20201206T100000
DTEND;TZID=America/Los_Angeles:20201206T133000
DTSTAMP:20260419T210218
CREATED:20200730T214718Z
LAST-MODIFIED:20201204T203754Z
UID:12785-1607248800-1607261400@www.sholem.org
SUMMARY:Classes (No Adult Activity)
DESCRIPTION:Sholem’s secular Jewish Sunday school meets for online classes: ALEF/BEYS (preK-2nd) & GIML (3rd/4th) begin at 10am. DALED (5th/6th) & HEY (7th/8th) begin at 11am. VOV (9th-12th) begins at 12:15pm. Enrollment is open! Questions about Sholem’s school? Email ross@sholem.org. \n\nEnroll Now
URL:https://www.sholem.org/event/classes-community-kibbitz-2/
LOCATION:Jan & Jerry’s house
CATEGORIES:General,Sunday school
END:VEVENT
BEGIN:VEVENT
DTSTART;TZID=America/Los_Angeles:20201209T190000
DTEND;TZID=America/Los_Angeles:20201209T200000
DTSTAMP:20260419T210218
CREATED:20201204T204026Z
LAST-MODIFIED:20201204T204547Z
UID:13985-1607540400-1607544000@www.sholem.org
SUMMARY:Sharing Holiday Traditions (Wednesday Eve)
DESCRIPTION:Sholem has annually hosted a “December Dilemma” discussion to talk about issues faced by Jewish and multicultural families during the winter holiday season (such as whether or not to have a Xmas tree.) This year we’re confronted with more than one December Dilemma. Let’s gather virtually to talk about our holiday traditions and ideas for celebrating during this exceptional Covid-cautious period when we’re not able to do things with families and friends in our usual ways. We’ll discuss how Sholemites have creatively worked to resolve some family differences in the past and about what we can do this year. Grab your favorite beverage\, pop in and share a toast\, or just come as you are.\n\nPlease note: We’re trying out a weekday evening for this event.\n\nCLICK HERE to register for link\nQuestions: rana@sholem.org
URL:https://www.sholem.org/event/sharing-holiday-traditions/
LOCATION:Jan & Jerry’s house
CATEGORIES:Adult Activity,General
END:VEVENT
BEGIN:VEVENT
DTSTART;TZID=America/Los_Angeles:20201213T100000
DTEND;TZID=America/Los_Angeles:20201213T133000
DTSTAMP:20260419T210218
CREATED:20200730T214758Z
LAST-MODIFIED:20201204T204651Z
UID:12788-1607853600-1607866200@www.sholem.org
SUMMARY:Classes\, Parent Mixer & Hanukkah/Khanike Assembly
DESCRIPTION:SCHOOL PARENTS MIXER \n10:30-11:30am (PT)\nAll school parents and guardians are invited to join us for this virtual meet-up. (At least one adult from each household is encouraged to attend.) This is an opportunity to reconnect with long time school families\, welcome new members\, and get better acquainted with the parents in your child/ren’s class.\n\nCLICK HERE to register for link\nQuestions: regan@sholem.org\n\n\nHANUKKAH / KHANIKE ASSEMBLY to follow\nStick around in the Zoom room for our all community Hanukkah/Khanike Assembly with our kids.
URL:https://www.sholem.org/event/classes-hanukah-assembly/
LOCATION:Jan & Jerry’s house
CATEGORIES:Adult Activity,General,Sunday school
END:VEVENT
BEGIN:VEVENT
DTSTART;VALUE=DATE:20201220
DTEND;VALUE=DATE:20201221
DTSTAMP:20260419T210218
CREATED:20200730T214847Z
LAST-MODIFIED:20200730T214847Z
UID:12791-1608422400-1608508799@www.sholem.org
SUMMARY:NO SHOLEM
DESCRIPTION:
URL:https://www.sholem.org/event/no-sholem-2/
LOCATION:Jan & Jerry’s house
CATEGORIES:Adult Activity,General,No Sholem,Sunday school
END:VEVENT
BEGIN:VEVENT
DTSTART;VALUE=DATE:20201227
DTEND;VALUE=DATE:20201228
DTSTAMP:20260419T210218
CREATED:20200730T214918Z
LAST-MODIFIED:20200730T214918Z
UID:12794-1609027200-1609113599@www.sholem.org
SUMMARY:NO SHOLEM
DESCRIPTION:
URL:https://www.sholem.org/event/no-sholem-3/
LOCATION:Jan & Jerry’s house
CATEGORIES:Adult Activity,General,No Sholem,Sunday school
END:VEVENT
END:VCALENDAR