BEGIN:VCALENDAR
VERSION:2.0
PRODID:-//Sholem Community - ECPv6.15.20//NONSGML v1.0//EN
CALSCALE:GREGORIAN
METHOD:PUBLISH
X-ORIGINAL-URL:https://www.sholem.org
X-WR-CALDESC:Events for Sholem Community
REFRESH-INTERVAL;VALUE=DURATION:PT1H
X-Robots-Tag:noindex
X-PUBLISHED-TTL:PT1H
BEGIN:VTIMEZONE
TZID:America/Los_Angeles
BEGIN:DAYLIGHT
TZOFFSETFROM:-0800
TZOFFSETTO:-0700
TZNAME:PDT
DTSTART:20190310T100000
END:DAYLIGHT
BEGIN:STANDARD
TZOFFSETFROM:-0700
TZOFFSETTO:-0800
TZNAME:PST
DTSTART:20191103T090000
END:STANDARD
BEGIN:DAYLIGHT
TZOFFSETFROM:-0800
TZOFFSETTO:-0700
TZNAME:PDT
DTSTART:20200308T100000
END:DAYLIGHT
BEGIN:STANDARD
TZOFFSETFROM:-0700
TZOFFSETTO:-0800
TZNAME:PST
DTSTART:20201101T090000
END:STANDARD
BEGIN:DAYLIGHT
TZOFFSETFROM:-0800
TZOFFSETTO:-0700
TZNAME:PDT
DTSTART:20210314T100000
END:DAYLIGHT
BEGIN:STANDARD
TZOFFSETFROM:-0700
TZOFFSETTO:-0800
TZNAME:PST
DTSTART:20211107T090000
END:STANDARD
END:VTIMEZONE
BEGIN:VEVENT
DTSTART;TZID=America/Los_Angeles:20201209T190000
DTEND;TZID=America/Los_Angeles:20201209T200000
DTSTAMP:20260419T224321
CREATED:20201204T204026Z
LAST-MODIFIED:20201204T204547Z
UID:13985-1607540400-1607544000@www.sholem.org
SUMMARY:Sharing Holiday Traditions (Wednesday Eve)
DESCRIPTION:Sholem has annually hosted a “December Dilemma” discussion to talk about issues faced by Jewish and multicultural families during the winter holiday season (such as whether or not to have a Xmas tree.) This year we’re confronted with more than one December Dilemma. Let’s gather virtually to talk about our holiday traditions and ideas for celebrating during this exceptional Covid-cautious period when we’re not able to do things with families and friends in our usual ways. We’ll discuss how Sholemites have creatively worked to resolve some family differences in the past and about what we can do this year. Grab your favorite beverage\, pop in and share a toast\, or just come as you are.\n\nPlease note: We’re trying out a weekday evening for this event.\n\nCLICK HERE to register for link\nQuestions: rana@sholem.org
URL:https://www.sholem.org/event/sharing-holiday-traditions/
LOCATION:Jan & Jerry’s house
CATEGORIES:Adult Activity,General
END:VEVENT
END:VCALENDAR