BEGIN:VCALENDAR
VERSION:2.0
PRODID:-//Sholem Community - ECPv6.15.20//NONSGML v1.0//EN
CALSCALE:GREGORIAN
METHOD:PUBLISH
X-WR-CALNAME:Sholem Community
X-ORIGINAL-URL:https://www.sholem.org
X-WR-CALDESC:Events for Sholem Community
REFRESH-INTERVAL;VALUE=DURATION:PT1H
X-Robots-Tag:noindex
X-PUBLISHED-TTL:PT1H
BEGIN:VTIMEZONE
TZID:America/Los_Angeles
BEGIN:DAYLIGHT
TZOFFSETFROM:-0800
TZOFFSETTO:-0700
TZNAME:PDT
DTSTART:20200308T100000
END:DAYLIGHT
BEGIN:STANDARD
TZOFFSETFROM:-0700
TZOFFSETTO:-0800
TZNAME:PST
DTSTART:20201101T090000
END:STANDARD
BEGIN:DAYLIGHT
TZOFFSETFROM:-0800
TZOFFSETTO:-0700
TZNAME:PDT
DTSTART:20210314T100000
END:DAYLIGHT
BEGIN:STANDARD
TZOFFSETFROM:-0700
TZOFFSETTO:-0800
TZNAME:PST
DTSTART:20211107T090000
END:STANDARD
BEGIN:DAYLIGHT
TZOFFSETFROM:-0800
TZOFFSETTO:-0700
TZNAME:PDT
DTSTART:20220313T100000
END:DAYLIGHT
BEGIN:STANDARD
TZOFFSETFROM:-0700
TZOFFSETTO:-0800
TZNAME:PST
DTSTART:20221106T090000
END:STANDARD
END:VTIMEZONE
BEGIN:VEVENT
DTSTART;TZID=America/Los_Angeles:20210109T100000
DTEND;TZID=America/Los_Angeles:20210109T113000
DTSTAMP:20260419T192108
CREATED:20201231T214846Z
LAST-MODIFIED:20201231T224642Z
UID:14097-1610186400-1610191800@www.sholem.org
SUMMARY:Sam Nordon's Bar Mitsve Ceremony
DESCRIPTION:Sholem student Sam Nordon will become a Bar Mitsve in Sholem’s first virtual ceremony! Sam will present “Jews and the Comic Book Industry\,” the research project he worked on with his mentor\, Board President Sheila McCoy. \nIf you like\, have some wine and challah on hand to join in the Kiddush at the end. Also\, guests are invited to write a message for Sam on an index card that you can hold up to your camera at the end of the ceremony. These will be captured for posterity and to share. \nWe look forward to seeing everyone! \nRSVP to pglist@mac.com to receive the  Zoom link before the event.
URL:https://www.sholem.org/event/sam-nordans-bar-mitsve-ceremony/
LOCATION:Jan & Jerry’s house
CATEGORIES:Adult Activity,Celebration,General
ATTACH;FMTTYPE=image/jpeg:https://www.sholem.org/wp-content/uploads/18b6646a-8ac6-4cba-bb3b-e2a89fd2eeda.jpeg
END:VEVENT
END:VCALENDAR