BEGIN:VCALENDAR
VERSION:2.0
PRODID:-//Sholem Community - ECPv6.15.20//NONSGML v1.0//EN
CALSCALE:GREGORIAN
METHOD:PUBLISH
X-WR-CALNAME:Sholem Community
X-ORIGINAL-URL:https://www.sholem.org
X-WR-CALDESC:Events for Sholem Community
REFRESH-INTERVAL;VALUE=DURATION:PT1H
X-Robots-Tag:noindex
X-PUBLISHED-TTL:PT1H
BEGIN:VTIMEZONE
TZID:America/Los_Angeles
BEGIN:DAYLIGHT
TZOFFSETFROM:-0800
TZOFFSETTO:-0700
TZNAME:PDT
DTSTART:20200308T100000
END:DAYLIGHT
BEGIN:STANDARD
TZOFFSETFROM:-0700
TZOFFSETTO:-0800
TZNAME:PST
DTSTART:20201101T090000
END:STANDARD
BEGIN:DAYLIGHT
TZOFFSETFROM:-0800
TZOFFSETTO:-0700
TZNAME:PDT
DTSTART:20210314T100000
END:DAYLIGHT
BEGIN:STANDARD
TZOFFSETFROM:-0700
TZOFFSETTO:-0800
TZNAME:PST
DTSTART:20211107T090000
END:STANDARD
BEGIN:DAYLIGHT
TZOFFSETFROM:-0800
TZOFFSETTO:-0700
TZNAME:PDT
DTSTART:20220313T100000
END:DAYLIGHT
BEGIN:STANDARD
TZOFFSETFROM:-0700
TZOFFSETTO:-0800
TZNAME:PST
DTSTART:20221106T090000
END:STANDARD
END:VTIMEZONE
BEGIN:VEVENT
DTSTART;TZID=America/Los_Angeles:20210306T100000
DTEND;TZID=America/Los_Angeles:20210306T113000
DTSTAMP:20260419T154315
CREATED:20210226T031439Z
LAST-MODIFIED:20210226T031546Z
UID:14341-1615024800-1615030200@www.sholem.org
SUMMARY:Gil Maruvada's Bar Mitsve Ceremony
DESCRIPTION:All are welcome for Sholem’s second virtual Bar Mitsve ceremony! Please join us for Gil Maruvada’s presentation\, “Artificial Intelligence or Stupidity: Jewish and Indian Perspectives on Synthetic Life”\n \nSholem’s secular Bar/Bas Mitsve observances meet the needs of families who honor their heritage and define their Jewish identity as cultural\, historical\, or ethnic\, rather than religious. Students in our Sunday School choose a topic for in-depth research or for significant thought. The choices reflect the individual’s areas of interest…those aspects of Jewish heritage and identity that are most meaningful at this point in the young person’s life. For more info about our program\, click here.\n\n \n\nGil Maruvada’s Bar Mitsve Ceremony\nSaturday\, March 6\n10:00 a.m. (PT)\nCLICK HERE for the Zoom Webinar
URL:https://www.sholem.org/event/gilmaruvadas-bar-mitsve-ceremony/
LOCATION:Jan & Jerry’s house
CATEGORIES:Adult Activity,Celebration,General
END:VEVENT
END:VCALENDAR