BEGIN:VCALENDAR
VERSION:2.0
PRODID:-//Sholem Community - ECPv6.15.20//NONSGML v1.0//EN
CALSCALE:GREGORIAN
METHOD:PUBLISH
X-WR-CALNAME:Sholem Community
X-ORIGINAL-URL:https://www.sholem.org
X-WR-CALDESC:Events for Sholem Community
REFRESH-INTERVAL;VALUE=DURATION:PT1H
X-Robots-Tag:noindex
X-PUBLISHED-TTL:PT1H
BEGIN:VTIMEZONE
TZID:America/Los_Angeles
BEGIN:DAYLIGHT
TZOFFSETFROM:-0800
TZOFFSETTO:-0700
TZNAME:PDT
DTSTART:20200308T100000
END:DAYLIGHT
BEGIN:STANDARD
TZOFFSETFROM:-0700
TZOFFSETTO:-0800
TZNAME:PST
DTSTART:20201101T090000
END:STANDARD
BEGIN:DAYLIGHT
TZOFFSETFROM:-0800
TZOFFSETTO:-0700
TZNAME:PDT
DTSTART:20210314T100000
END:DAYLIGHT
BEGIN:STANDARD
TZOFFSETFROM:-0700
TZOFFSETTO:-0800
TZNAME:PST
DTSTART:20211107T090000
END:STANDARD
BEGIN:DAYLIGHT
TZOFFSETFROM:-0800
TZOFFSETTO:-0700
TZNAME:PDT
DTSTART:20220313T100000
END:DAYLIGHT
BEGIN:STANDARD
TZOFFSETFROM:-0700
TZOFFSETTO:-0800
TZNAME:PST
DTSTART:20221106T090000
END:STANDARD
END:VTIMEZONE
BEGIN:VEVENT
DTSTART;TZID=America/Los_Angeles:20210307T100000
DTEND;TZID=America/Los_Angeles:20210307T133000
DTSTAMP:20260419T154310
CREATED:20210226T032134Z
LAST-MODIFIED:20210226T032134Z
UID:14345-1615111200-1615123800@www.sholem.org
SUMMARY:Sunday School
DESCRIPTION:Sholem’s secular Jewish Sunday school meets for online classes: ALEF/BEYS (preK-2nd) & GIML (3rd/4th) begin at 10am. DALED (5th/6th) at 11am. HEY (7th/8th) begin at 11:15am. VOV (9th-12th) begins at 12:30pm. Enrollment is open! Questions about Sholem’s school? Email ross@sholem.org. \n\nEnroll Now
URL:https://www.sholem.org/event/sunday-school-3/
LOCATION:Jan & Jerry’s house
CATEGORIES:General,Sunday school
END:VEVENT
BEGIN:VEVENT
DTSTART;TZID=America/Los_Angeles:20210307T140000
DTEND;TZID=America/Los_Angeles:20210307T153000
DTSTAMP:20260419T154310
CREATED:20210217T071340Z
LAST-MODIFIED:20210226T032511Z
UID:14281-1615125600-1615131000@www.sholem.org
SUMMARY:Rediscovering Our Radical Roots w/ Hershl Hartman (#4): Radical Jewish Women
DESCRIPTION:This session will focus on the historical contributions of radical Jewish women leading the Immigrant Revolt of the 1880s-1920s.\n\nAs we mark International Women’s Day (March 8)\, we recall that sweatshops\, tenement houses and streets saw struggles against economic oppression\, often by Jewish owners exploiting their own. We will meet some heroes and explore the heritage with which they endowed us.This virtual discussion series is led by Hershl Hartman\, Sholem’s Education Director\, and co-sponsored by the Workers Circle.REDISCOVERING OUR RADICAL ROOTS – Part 4Discussion with Hershl HartmanSunday\, March 7\n2-3:30 p.m. (PT)CLICK HERE to register in advanceAfter registering\, you will receive a confirmation email containing information about joining the meeting.\n\n\n\nFor a recording of session #1 (10/25/20): click here\n\nFor a recording of session #2 (11/22/20): click here\n\n\n\nFor a recording of session #3 (1/31/21): click here
URL:https://www.sholem.org/event/rediscovering-our-radical-roots-w-hershl-hartman-4/
CATEGORIES:Adult Activity,General
END:VEVENT
END:VCALENDAR