BEGIN:VCALENDAR
VERSION:2.0
PRODID:-//Sholem Community - ECPv6.15.20//NONSGML v1.0//EN
CALSCALE:GREGORIAN
METHOD:PUBLISH
X-WR-CALNAME:Sholem Community
X-ORIGINAL-URL:https://www.sholem.org
X-WR-CALDESC:Events for Sholem Community
REFRESH-INTERVAL;VALUE=DURATION:PT1H
X-Robots-Tag:noindex
X-PUBLISHED-TTL:PT1H
BEGIN:VTIMEZONE
TZID:America/Los_Angeles
BEGIN:DAYLIGHT
TZOFFSETFROM:-0800
TZOFFSETTO:-0700
TZNAME:PDT
DTSTART:20200308T100000
END:DAYLIGHT
BEGIN:STANDARD
TZOFFSETFROM:-0700
TZOFFSETTO:-0800
TZNAME:PST
DTSTART:20201101T090000
END:STANDARD
BEGIN:DAYLIGHT
TZOFFSETFROM:-0800
TZOFFSETTO:-0700
TZNAME:PDT
DTSTART:20210314T100000
END:DAYLIGHT
BEGIN:STANDARD
TZOFFSETFROM:-0700
TZOFFSETTO:-0800
TZNAME:PST
DTSTART:20211107T090000
END:STANDARD
BEGIN:DAYLIGHT
TZOFFSETFROM:-0800
TZOFFSETTO:-0700
TZNAME:PDT
DTSTART:20220313T100000
END:DAYLIGHT
BEGIN:STANDARD
TZOFFSETFROM:-0700
TZOFFSETTO:-0800
TZNAME:PST
DTSTART:20221106T090000
END:STANDARD
END:VTIMEZONE
BEGIN:VEVENT
DTSTART;TZID=America/Los_Angeles:20210916T110000
DTEND;TZID=America/Los_Angeles:20210916T130000
DTSTAMP:20260420T093318
CREATED:20210912T024416Z
LAST-MODIFIED:20210919T000641Z
UID:15210-1631790000-1631797200@www.sholem.org
SUMMARY:Yom Kippur (9/16) in the Park
DESCRIPTION:Join us at the Cheviot Hills park for a family-friendly discussion of ethics in our daily lives. \nFor more information\, write to newyearfestivals2021@sholem.org
URL:https://www.sholem.org/event/yom-kippur-9-16-in-the-park/
LOCATION:Rancho Park-Cheviot Hills. Picnic Area #1 (behind the swimming pool)\, 2551 Motor Ave. (One block south of Pico)\, Los Angeles\, CA\, 90064\, United States
CATEGORIES:Adult Activity,General
ATTACH;FMTTYPE=image/jpeg:https://www.sholem.org/wp-content/uploads/237057295_4566385693385680_6702166886755718957_n.jpg
END:VEVENT
END:VCALENDAR