BEGIN:VCALENDAR
VERSION:2.0
PRODID:-//Sholem Community - ECPv6.15.20//NONSGML v1.0//EN
CALSCALE:GREGORIAN
METHOD:PUBLISH
X-ORIGINAL-URL:https://www.sholem.org
X-WR-CALDESC:Events for Sholem Community
REFRESH-INTERVAL;VALUE=DURATION:PT1H
X-Robots-Tag:noindex
X-PUBLISHED-TTL:PT1H
BEGIN:VTIMEZONE
TZID:America/Los_Angeles
BEGIN:DAYLIGHT
TZOFFSETFROM:-0800
TZOFFSETTO:-0700
TZNAME:PDT
DTSTART:20210314T100000
END:DAYLIGHT
BEGIN:STANDARD
TZOFFSETFROM:-0700
TZOFFSETTO:-0800
TZNAME:PST
DTSTART:20211107T090000
END:STANDARD
BEGIN:DAYLIGHT
TZOFFSETFROM:-0800
TZOFFSETTO:-0700
TZNAME:PDT
DTSTART:20220313T100000
END:DAYLIGHT
BEGIN:STANDARD
TZOFFSETFROM:-0700
TZOFFSETTO:-0800
TZNAME:PST
DTSTART:20221106T090000
END:STANDARD
BEGIN:DAYLIGHT
TZOFFSETFROM:-0800
TZOFFSETTO:-0700
TZNAME:PDT
DTSTART:20230312T100000
END:DAYLIGHT
BEGIN:STANDARD
TZOFFSETFROM:-0700
TZOFFSETTO:-0800
TZNAME:PST
DTSTART:20231105T090000
END:STANDARD
BEGIN:DAYLIGHT
TZOFFSETFROM:-0800
TZOFFSETTO:-0700
TZNAME:PDT
DTSTART:20240310T100000
END:DAYLIGHT
BEGIN:STANDARD
TZOFFSETFROM:-0700
TZOFFSETTO:-0800
TZNAME:PST
DTSTART:20241103T090000
END:STANDARD
BEGIN:DAYLIGHT
TZOFFSETFROM:-0800
TZOFFSETTO:-0700
TZNAME:PDT
DTSTART:20250309T100000
END:DAYLIGHT
BEGIN:STANDARD
TZOFFSETFROM:-0700
TZOFFSETTO:-0800
TZNAME:PST
DTSTART:20251102T090000
END:STANDARD
BEGIN:DAYLIGHT
TZOFFSETFROM:-0800
TZOFFSETTO:-0700
TZNAME:PDT
DTSTART:20260308T100000
END:DAYLIGHT
BEGIN:STANDARD
TZOFFSETFROM:-0700
TZOFFSETTO:-0800
TZNAME:PST
DTSTART:20261101T090000
END:STANDARD
END:VTIMEZONE
BEGIN:VEVENT
DTSTART;VALUE=DATE:20221113
DTEND;VALUE=DATE:20221114
DTSTAMP:20260420T003257
CREATED:20221031T193859Z
LAST-MODIFIED:20221111T211754Z
UID:27547-1668297600-1668383999@www.sholem.org
SUMMARY:OPEN HOUSE (10am Bagels & Coffee\, 10:30 Program)
DESCRIPTION:Our School Principal\, Ross Helford\, will lead a discussion with current and prospective families about the importance\, urgency\, and value of a secular Jewish education – including its history and what it is today. We will also have an overview of our school\, curriculum\, didactic approach\, bmitsve program*\, teen/belfer program\, and our multigenerational community offerings. \nSholem Open House\nSunday\, November 13\n10:00 a.m. Bagels\, Juice & Coffee\n10:30-11:30 a.m. Program \n(Linger afterwards for further schmoozing.) \nHelp spread the word.  Invite friends. \nAll are welcome! \nQuestions: ross@sholem.org \n* While the adults are engaged with the Open house\, Sholem dad (and former student/barmitsve) David Goldberg will be meeting with our Hey class. The students will consider which pressing societal needs most capture their attention and decide on one for their bmitsve social action project. \n[Image from the Peretz Centre for Jewish Culture]
URL:https://www.sholem.org/event/community-kibbitz-1030am/
CATEGORIES:Adult Activity,General
ATTACH;FMTTYPE=image/jpeg:https://www.sholem.org/wp-content/uploads/th-3.jpeg
END:VEVENT
BEGIN:VEVENT
DTSTART;VALUE=DATE:20250817
DTEND;VALUE=DATE:20250818
DTSTAMP:20260420T003257
CREATED:20250809T025943Z
LAST-MODIFIED:20250820T205650Z
UID:30192-1755388800-1755475199@www.sholem.org
SUMMARY:2025 Summer Planning Meeting
DESCRIPTION:This meeting is open to the entire Sholem community\, and is for anyone interested in serving in leadership or in taking on a volunteer role.
URL:https://www.sholem.org/event/summer-planning-meeting/
CATEGORIES:General,Sunday school
END:VEVENT
BEGIN:VEVENT
DTSTART;TZID=America/Los_Angeles:20251214T103000
DTEND;TZID=America/Los_Angeles:20251214T120000
DTSTAMP:20260420T003257
CREATED:20251212T061447Z
LAST-MODIFIED:20251212T061447Z
UID:30807-1765708200-1765713600@www.sholem.org
SUMMARY:"The December Dilemma" Group Discussion
DESCRIPTION:Beginning at 10:30 a.m.\, there will be an Adult Activity for Sholem parents and community members. \nLongtime Sholem members Laurie Braude and Lois Bostwick will facilitate a community discussion on “The December Dilemma\,” which may arise from tension between the celebration of Chanukah and Christmas\, especially when the two holidays coincide.  This season can be challenging for many interfaith or intercultural families as they navigate the desire to honor their Jewish identity while also participating in the festive spirit of Christmas.
URL:https://www.sholem.org/event/the-december-dilemma-group-discussion/
CATEGORIES:Celebration,General
END:VEVENT
END:VCALENDAR