BEGIN:VCALENDAR
VERSION:2.0
PRODID:-//Sholem Community - ECPv6.15.20//NONSGML v1.0//EN
CALSCALE:GREGORIAN
METHOD:PUBLISH
X-ORIGINAL-URL:https://www.sholem.org
X-WR-CALDESC:Events for Sholem Community
REFRESH-INTERVAL;VALUE=DURATION:PT1H
X-Robots-Tag:noindex
X-PUBLISHED-TTL:PT1H
BEGIN:VTIMEZONE
TZID:America/Los_Angeles
BEGIN:DAYLIGHT
TZOFFSETFROM:-0800
TZOFFSETTO:-0700
TZNAME:PDT
DTSTART:20250309T100000
END:DAYLIGHT
BEGIN:STANDARD
TZOFFSETFROM:-0700
TZOFFSETTO:-0800
TZNAME:PST
DTSTART:20251102T090000
END:STANDARD
BEGIN:DAYLIGHT
TZOFFSETFROM:-0800
TZOFFSETTO:-0700
TZNAME:PDT
DTSTART:20260308T100000
END:DAYLIGHT
BEGIN:STANDARD
TZOFFSETFROM:-0700
TZOFFSETTO:-0800
TZNAME:PST
DTSTART:20261101T090000
END:STANDARD
BEGIN:DAYLIGHT
TZOFFSETFROM:-0800
TZOFFSETTO:-0700
TZNAME:PDT
DTSTART:20270314T100000
END:DAYLIGHT
BEGIN:STANDARD
TZOFFSETFROM:-0700
TZOFFSETTO:-0800
TZNAME:PST
DTSTART:20271107T090000
END:STANDARD
END:VTIMEZONE
BEGIN:VEVENT
DTSTART;TZID=America/Los_Angeles:20260510T100000
DTEND;TZID=America/Los_Angeles:20260510T123000
DTSTAMP:20260420T113032
CREATED:20260420T073012Z
LAST-MODIFIED:20260420T073014Z
UID:31060-1778407200-1778416200@www.sholem.org
SUMMARY:We Were There:  Surviving the Holocaust in Shanghai
DESCRIPTION:Talk & Discussion \nSunday\, May 10th\, 2025\n10:00 a.m. – 12:30 p.m. \n  \nTwin sisters Gitta Morris and Monika White were born in Shanghai’s\nHongkew District and lived in what became the Shanghai Jewish Ghetto.\nThey lived there for eight years\, including the three years of WWII\, during\nwhich they were interned by the Japanese. \nIn their talks\, they review their lives in the Ghetto and their memories and\nexperiences of loss\, fear\, hunger\, and happy times. They also discuss their\nmove to the US and the lives they have built as adults. \n  \nRSVP to regan@sholem.org \n  \n10:00 a.m. Check-in\, Bagels & Coffee\n10:30 a.m. Talk followed by Q&A\nShort Avenue Elementary School\n12814 Maxella Ave.\, Los Angeles\, CA 90066\n \nPresented by the Sholem Community  \n  \nAll are welcome | Free to attend \n 
URL:https://www.sholem.org/event/we-were-there-surviving-the-holocaust-in-shanghai/
ATTACH;FMTTYPE=image/jpeg:https://www.sholem.org/wp-content/uploads/1-1-1.jpg
END:VEVENT
BEGIN:VEVENT
DTSTART;VALUE=DATE:20260517
DTEND;VALUE=DATE:20260518
DTSTAMP:20260420T113032
CREATED:20260119T060253Z
LAST-MODIFIED:20260409T063524Z
UID:30867-1778976000-1779062399@www.sholem.org
SUMMARY:Year End Assembly
DESCRIPTION:This will be our final meeting at Short Avenue for the current school year.  Classes will meet as usual\, beginning at 10:00 AM.  Please come early for coffee\, bagels and schmoozing. \nFollowing classes\, we will be having a year end assembly to wrap up the academic year.
URL:https://www.sholem.org/event/year-end-assembly/
CATEGORIES:Sunday school
END:VEVENT
END:VCALENDAR