BEGIN:VCALENDAR
VERSION:2.0
PRODID:-//Sholem Community - ECPv6.15.20//NONSGML v1.0//EN
CALSCALE:GREGORIAN
METHOD:PUBLISH
X-ORIGINAL-URL:https://www.sholem.org
X-WR-CALDESC:Events for Sholem Community
REFRESH-INTERVAL;VALUE=DURATION:PT1H
X-Robots-Tag:noindex
X-PUBLISHED-TTL:PT1H
BEGIN:VTIMEZONE
TZID:America/Los_Angeles
BEGIN:DAYLIGHT
TZOFFSETFROM:-0800
TZOFFSETTO:-0700
TZNAME:PDT
DTSTART:20210314T100000
END:DAYLIGHT
BEGIN:STANDARD
TZOFFSETFROM:-0700
TZOFFSETTO:-0800
TZNAME:PST
DTSTART:20211107T090000
END:STANDARD
BEGIN:DAYLIGHT
TZOFFSETFROM:-0800
TZOFFSETTO:-0700
TZNAME:PDT
DTSTART:20220313T100000
END:DAYLIGHT
BEGIN:STANDARD
TZOFFSETFROM:-0700
TZOFFSETTO:-0800
TZNAME:PST
DTSTART:20221106T090000
END:STANDARD
BEGIN:DAYLIGHT
TZOFFSETFROM:-0800
TZOFFSETTO:-0700
TZNAME:PDT
DTSTART:20230312T100000
END:DAYLIGHT
BEGIN:STANDARD
TZOFFSETFROM:-0700
TZOFFSETTO:-0800
TZNAME:PST
DTSTART:20231105T090000
END:STANDARD
END:VTIMEZONE
BEGIN:VEVENT
DTSTART;VALUE=DATE:20220724
DTEND;VALUE=DATE:20220725
DTSTAMP:20260419T091241
CREATED:20220708T002854Z
LAST-MODIFIED:20220713T202658Z
UID:26693-1658620800-1658707199@www.sholem.org
SUMMARY:SUMMER MEETING ONLINE  SUNDAY\, JULY 24 @ 10AM (PDT)
DESCRIPTION:Sholem’s annual summer meeting\nhas been rescheduled!\nA number of folks who want to participate are unable to make the in person gathering originally scheduled for this Sunday\, so we’ll be meeting via Zoom a week later. \nPlease plan to log in to join the discussion.\nLearn what’s planned for Sholem’s 2022-2023 year.\nShare your feedback and ideas! \nSummer Meeting ONLINE\nSunday\, July 24\, 2022\n10:00 a.m. PDT \nCLICK HERE to join ZOOM\nQuestions: regan@sholem.org
URL:https://www.sholem.org/event/summer-planning-meeting-with-potluck-pool-sunday-july-17-11-am/
ATTACH;FMTTYPE=image/jpeg:https://www.sholem.org/wp-content/uploads/18537c00-b751-6c2e-1d38-e1ddac8850de.jpeg
END:VEVENT
END:VCALENDAR